BEGIN:VCALENDAR
VERSION:2.0
PRODID:-//That Beats Banagher 2025 - ECPv6.15.16//NONSGML v1.0//EN
CALSCALE:GREGORIAN
METHOD:PUBLISH
X-ORIGINAL-URL:https://thatbeatsbanagher.com
X-WR-CALDESC:Events for That Beats Banagher 2025
REFRESH-INTERVAL;VALUE=DURATION:PT1H
X-Robots-Tag:noindex
X-PUBLISHED-TTL:PT1H
BEGIN:VTIMEZONE
TZID:Europe/Dublin
BEGIN:STANDARD
TZOFFSETFROM:+0000
TZOFFSETTO:+0100
TZNAME:IST
DTSTART:20220327T010000
END:STANDARD
BEGIN:DAYLIGHT
TZOFFSETFROM:+0100
TZOFFSETTO:+0000
TZNAME:GMT
DTSTART:20221030T010000
END:DAYLIGHT
BEGIN:STANDARD
TZOFFSETFROM:+0000
TZOFFSETTO:+0100
TZNAME:IST
DTSTART:20230326T010000
END:STANDARD
BEGIN:DAYLIGHT
TZOFFSETFROM:+0100
TZOFFSETTO:+0000
TZNAME:GMT
DTSTART:20231029T010000
END:DAYLIGHT
BEGIN:STANDARD
TZOFFSETFROM:+0000
TZOFFSETTO:+0100
TZNAME:IST
DTSTART:20240331T010000
END:STANDARD
BEGIN:DAYLIGHT
TZOFFSETFROM:+0100
TZOFFSETTO:+0000
TZNAME:GMT
DTSTART:20241027T010000
END:DAYLIGHT
BEGIN:STANDARD
TZOFFSETFROM:+0000
TZOFFSETTO:+0100
TZNAME:IST
DTSTART:20250330T010000
END:STANDARD
BEGIN:DAYLIGHT
TZOFFSETFROM:+0100
TZOFFSETTO:+0000
TZNAME:GMT
DTSTART:20251026T010000
END:DAYLIGHT
END:VTIMEZONE
BEGIN:VEVENT
DTSTART;TZID=Europe/Dublin:20240726T160000
DTEND;TZID=Europe/Dublin:20240726T173000
DTSTAMP:20260425T140733
CREATED:20240702T093050Z
LAST-MODIFIED:20240716T094530Z
UID:6420-1722009600-1722015000@thatbeatsbanagher.com
SUMMARY:OLDC Craftmaster Documentaries Launch
DESCRIPTION:Offaly Local Development Company (OLDC) launches “Legacy – Craftmasters\,” a dedicated initiative celebrating the traditional skills masters.\nAs part of OLDC’s commitment to the exceptional talents of Offaly’s traditional craftspeople\, a series of six short documentaries have been produced to showcase some of the best of Offaly’s traditional crafts\, from blacksmithing and weaving to jewellery design\, basket weaving\, slate carving\, and Mountmellick embroidery. These documentaries highlight the incredible skills of the artisans who are preserving Ireland’s rich cultural heritage. \nWhere: Crank House \nTime: 4:00 pm to 5:30 pm \nDate: 26/07/2024
URL:https://thatbeatsbanagher.com/event/oldc-craftmaster-documentaries-launch/
LOCATION:Crank House\, Banagher\, Ireland
CATEGORIES:Exhibition,Launch
ATTACH;FMTTYPE=image/png:https://thatbeatsbanagher.com/wp-content/uploads/2024/07/Workshop-5.png
END:VEVENT
BEGIN:VEVENT
DTSTART;TZID=Europe/Dublin:20230721T183000
DTEND;TZID=Europe/Dublin:20230721T200000
DTSTAMP:20260425T140733
CREATED:20230613T155754Z
LAST-MODIFIED:20230621T181530Z
UID:5407-1689964200-1689969600@thatbeatsbanagher.com
SUMMARY:Celebrating Charlotte Brontës Associations with Banagher
DESCRIPTION:Friday 21st July to Sunday 23rd July 2023 \nAs part of the 10th That Beats Banagher Festival\, this year’s festival will include a weekend of dedicated events celebrating Charlotte Brontë and her husband Arthur Bell Nicholls and their connections with Banagher. \nThe first event will be on Friday 21st July at 6:30 pm with the opening of an exhibition ‘The Legacy of the Brontës in Banagher’ and the showing of a related film by Maebh O’Regan. The exhibition shows through a variety of textile panels items connected with the Brontës and their association with Banagher. The work is a collaboration between the Banagher Crafting Group and Maebh O’Regan of the National College of Art and Design in Dublin. \nFriday 21st July \n7.20 p.m. Eileen Casey will read from her collections of poems Bog Treasure and Bogmen First and Last and speak of her love for the works of the Brontë sisters. Eileen is a highly acclaimed poet\, winner of several literary awards\, and a maker of short films. \nLight refreshments will be served and everybody is very welcome!
URL:https://thatbeatsbanagher.com/event/celebrating-charlotte-brontes-associations-with-banagher/
LOCATION:Crank House\, Banagher\, Ireland
CATEGORIES:Charlotte Bronte,Exhibition
ATTACH;FMTTYPE=image/png:https://thatbeatsbanagher.com/wp-content/uploads/2023/06/charlotte.png
END:VEVENT
BEGIN:VEVENT
DTSTART;TZID=Europe/Dublin:20230715T100000
DTEND;TZID=Europe/Dublin:20230715T170000
DTSTAMP:20260425T140733
CREATED:20230613T154229Z
LAST-MODIFIED:20230713T162002Z
UID:5400-1689415200-1689440400@thatbeatsbanagher.com
SUMMARY:Wool Spinning Demonstration
DESCRIPTION:Join Seamus Kirwan in preserving the old craft of hand-spinning wool on spinning wheels\, drop spindles or walking wheel! \nCome along and enjoy the demonstration. Seamus will bring several different styles of spinning wheels and drop spindles to the workshop so you will also have the opportunity to try these skills. \nDon’t miss out on this opportunity to learn more about this traditional craft and connect with the history of wool spinning.
URL:https://thatbeatsbanagher.com/event/wool-spinining-demonstration/
LOCATION:Barrack Yard\, Banagher\, Ireland
CATEGORIES:Demonstration,Exhibition
ATTACH;FMTTYPE=image/png:https://thatbeatsbanagher.com/wp-content/uploads/2023/06/Workshop.png
END:VEVENT
END:VCALENDAR