BEGIN:VCALENDAR
VERSION:2.0
PRODID:-//That Beats Banagher 2025 - ECPv6.15.16//NONSGML v1.0//EN
CALSCALE:GREGORIAN
METHOD:PUBLISH
X-ORIGINAL-URL:https://thatbeatsbanagher.com
X-WR-CALDESC:Events for That Beats Banagher 2025
REFRESH-INTERVAL;VALUE=DURATION:PT1H
X-Robots-Tag:noindex
X-PUBLISHED-TTL:PT1H
BEGIN:VTIMEZONE
TZID:Europe/Dublin
BEGIN:STANDARD
TZOFFSETFROM:+0000
TZOFFSETTO:+0100
TZNAME:IST
DTSTART:20220327T010000
END:STANDARD
BEGIN:DAYLIGHT
TZOFFSETFROM:+0100
TZOFFSETTO:+0000
TZNAME:GMT
DTSTART:20221030T010000
END:DAYLIGHT
BEGIN:STANDARD
TZOFFSETFROM:+0000
TZOFFSETTO:+0100
TZNAME:IST
DTSTART:20230326T010000
END:STANDARD
BEGIN:DAYLIGHT
TZOFFSETFROM:+0100
TZOFFSETTO:+0000
TZNAME:GMT
DTSTART:20231029T010000
END:DAYLIGHT
BEGIN:STANDARD
TZOFFSETFROM:+0000
TZOFFSETTO:+0100
TZNAME:IST
DTSTART:20240331T010000
END:STANDARD
BEGIN:DAYLIGHT
TZOFFSETFROM:+0100
TZOFFSETTO:+0000
TZNAME:GMT
DTSTART:20241027T010000
END:DAYLIGHT
END:VTIMEZONE
BEGIN:VEVENT
DTSTART;TZID=Europe/Dublin:20230715T210000
DTEND;TZID=Europe/Dublin:20230715T223000
DTSTAMP:20260426T014934
CREATED:20230622T064821Z
LAST-MODIFIED:20230627T105656Z
UID:5538-1689454800-1689460200@thatbeatsbanagher.com
SUMMARY:Spectacular Fireworks Display
DESCRIPTION:To celebrate our 10th year we are delighted to announce the return of our Spectacular Fireworks Display over the River Shannon. \nLooking for a fun and exciting way to spend an evening with your family and friends? With a range of colors and shapes lighting up the night sky\, this is a show you won’t want to miss! Don’t forget to bring your camera to capture the memories. \n \nSo mark your calendars and join us at dusk on Saturday 15th July for a night of entertainment and celebration. This event is open to everyone and whilst admission is free donations to the That Beats Banagher Festival are welcomed. \n 
URL:https://thatbeatsbanagher.com/event/spectacular-fireworks-display/
LOCATION:Banagher Park\, Banagher\, Ireland
CATEGORIES:Fireworks
ATTACH;FMTTYPE=image/jpeg:https://thatbeatsbanagher.com/wp-content/uploads/2023/06/2016-05-13-That-Beats-Banagher-5709.jpeg
END:VEVENT
END:VCALENDAR